BEGIN:VCALENDAR
VERSION:2.0
PRODID:-//SCW Mainz - ECPv6.15.20//NONSGML v1.0//EN
CALSCALE:GREGORIAN
METHOD:PUBLISH
X-WR-CALNAME:SCW Mainz
X-ORIGINAL-URL:http://sc-waidmannsheil.de
X-WR-CALDESC:Veranstaltungen für SCW Mainz
REFRESH-INTERVAL;VALUE=DURATION:PT1H
X-Robots-Tag:noindex
X-PUBLISHED-TTL:PT1H
BEGIN:VTIMEZONE
TZID:Europe/Berlin
BEGIN:DAYLIGHT
TZOFFSETFROM:+0100
TZOFFSETTO:+0200
TZNAME:CEST
DTSTART:20160327T010000
END:DAYLIGHT
BEGIN:STANDARD
TZOFFSETFROM:+0200
TZOFFSETTO:+0100
TZNAME:CET
DTSTART:20161030T010000
END:STANDARD
BEGIN:DAYLIGHT
TZOFFSETFROM:+0100
TZOFFSETTO:+0200
TZNAME:CEST
DTSTART:20170326T010000
END:DAYLIGHT
BEGIN:STANDARD
TZOFFSETFROM:+0200
TZOFFSETTO:+0100
TZNAME:CET
DTSTART:20171029T010000
END:STANDARD
BEGIN:DAYLIGHT
TZOFFSETFROM:+0100
TZOFFSETTO:+0200
TZNAME:CEST
DTSTART:20180325T010000
END:DAYLIGHT
BEGIN:STANDARD
TZOFFSETFROM:+0200
TZOFFSETTO:+0100
TZNAME:CET
DTSTART:20181028T010000
END:STANDARD
END:VTIMEZONE
BEGIN:VEVENT
DTSTART;TZID=Europe/Berlin:20170902T100000
DTEND;TZID=Europe/Berlin:20170902T170000
DTSTAMP:20260425T052741
CREATED:20170614T082649Z
LAST-MODIFIED:20170614T083755Z
UID:114-1504346400-1504371600@sc-waidmannsheil.de
SUMMARY:Meile des Sports
DESCRIPTION:
URL:http://sc-waidmannsheil.de/event/meile-des-sports/
LOCATION:Meile des Sports\, Gutenbergplatz\, Mainz\, 55116\, Deutschland
END:VEVENT
BEGIN:VEVENT
DTSTART;VALUE=DATE:20170903
DTEND;VALUE=DATE:20170904
DTSTAMP:20260425T052741
CREATED:20170611T183536Z
LAST-MODIFIED:20170611T183704Z
UID:108-1504396800-1504483199@sc-waidmannsheil.de
SUMMARY:Maulwurfturnier 2017
DESCRIPTION:Ausschreibung des 7. Maulwurf-Turnier
URL:http://sc-waidmannsheil.de/event/maulwurfturnier-2017/
END:VEVENT
BEGIN:VEVENT
DTSTART;VALUE=DATE:20170909
DTEND;VALUE=DATE:20170910
DTSTAMP:20260425T052741
CREATED:20170614T083622Z
LAST-MODIFIED:20170614T083622Z
UID:120-1504915200-1505001599@sc-waidmannsheil.de
SUMMARY:Landesjugendsportfest
DESCRIPTION:
URL:http://sc-waidmannsheil.de/event/landesjugendsportfest/
LOCATION:Stuckradweg\, 54293 Trier\, Stuckradweg\, Trier\, 54293\, Deutschland
END:VEVENT
END:VCALENDAR