BEGIN:VCALENDAR
VERSION:2.0
PRODID:-//SCW Mainz - ECPv6.15.20//NONSGML v1.0//EN
CALSCALE:GREGORIAN
METHOD:PUBLISH
X-WR-CALNAME:SCW Mainz
X-ORIGINAL-URL:http://sc-waidmannsheil.de
X-WR-CALDESC:Veranstaltungen für SCW Mainz
REFRESH-INTERVAL;VALUE=DURATION:PT1H
X-Robots-Tag:noindex
X-PUBLISHED-TTL:PT1H
BEGIN:VTIMEZONE
TZID:Europe/Berlin
BEGIN:DAYLIGHT
TZOFFSETFROM:+0100
TZOFFSETTO:+0200
TZNAME:CEST
DTSTART:20160327T010000
END:DAYLIGHT
BEGIN:STANDARD
TZOFFSETFROM:+0200
TZOFFSETTO:+0100
TZNAME:CET
DTSTART:20161030T010000
END:STANDARD
BEGIN:DAYLIGHT
TZOFFSETFROM:+0100
TZOFFSETTO:+0200
TZNAME:CEST
DTSTART:20170326T010000
END:DAYLIGHT
BEGIN:STANDARD
TZOFFSETFROM:+0200
TZOFFSETTO:+0100
TZNAME:CET
DTSTART:20171029T010000
END:STANDARD
BEGIN:DAYLIGHT
TZOFFSETFROM:+0100
TZOFFSETTO:+0200
TZNAME:CEST
DTSTART:20180325T010000
END:DAYLIGHT
BEGIN:STANDARD
TZOFFSETFROM:+0200
TZOFFSETTO:+0100
TZNAME:CET
DTSTART:20181028T010000
END:STANDARD
END:VTIMEZONE
BEGIN:VEVENT
DTSTART;TZID=Europe/Berlin:20171018T080000
DTEND;TZID=Europe/Berlin:20171018T170000
DTSTAMP:20260422T094249
CREATED:20171018T211819Z
LAST-MODIFIED:20171018T211819Z
UID:307-1508313600-1508346000@sc-waidmannsheil.de
SUMMARY:2. Wettkampf Oberliga 2018
DESCRIPTION:
URL:http://sc-waidmannsheil.de/event/2-wettkampf-oberliga-2018/
END:VEVENT
END:VCALENDAR